BEGIN:VCALENDAR
VERSION:2.0
PRODID:-//Peiner Betreuungsverein e.V. - ECPv6.2.0.1//NONSGML v1.0//EN
CALSCALE:GREGORIAN
METHOD:PUBLISH
X-WR-CALNAME:Peiner Betreuungsverein e.V.
X-ORIGINAL-URL:https://www.peiner-btv.de
X-WR-CALDESC:Veranstaltungen für Peiner Betreuungsverein e.V.
REFRESH-INTERVAL;VALUE=DURATION:PT1H
X-Robots-Tag:noindex
X-PUBLISHED-TTL:PT1H
BEGIN:VTIMEZONE
TZID:Europe/Berlin
BEGIN:DAYLIGHT
TZOFFSETFROM:+0100
TZOFFSETTO:+0200
TZNAME:CEST
DTSTART:20260329T010000
END:DAYLIGHT
BEGIN:STANDARD
TZOFFSETFROM:+0200
TZOFFSETTO:+0100
TZNAME:CET
DTSTART:20261025T010000
END:STANDARD
END:VTIMEZONE
BEGIN:VEVENT
DTSTART;TZID=Europe/Berlin:20260527T170000
DTEND;TZID=Europe/Berlin:20260527T180000
DTSTAMP:20260424T130343
CREATED:20260118T185120Z
LAST-MODIFIED:20260118T185120Z
UID:3067-1779901200-1779904800@www.peiner-btv.de
SUMMARY:Die Autismusambulanz stellt sich vor!
DESCRIPTION:Referentin Christina Gier/ Lebenshilfe Braunschweig gGmbH\nFIPS Forum\, Werderstraße 36 in 31224 Peine\nAnmeldung im BtV bis 25.05.2026
URL:https://www.peiner-btv.de/event/die-autismusambulanz-stellt-sich-vor/
END:VEVENT
BEGIN:VEVENT
DTSTART;TZID=Europe/Berlin:20260624T170000
DTEND;TZID=Europe/Berlin:20260624T180000
DTSTAMP:20260424T130343
CREATED:20260118T185252Z
LAST-MODIFIED:20260118T185252Z
UID:3069-1782320400-1782324000@www.peiner-btv.de
SUMMARY:Fallbesprechung für ehrenamtliche Betreuer*innen
DESCRIPTION:Gast: Lars Miehe/ Facharzt für Allgemein- und Palliativmedizin zum Thema „Ethik im Alltag“\nModeration André Gras und Sabine Scholz-Howind/ Peiner BtV\nRaum der Lebenshilfe Peine-Burgdorf St.-Jakobi-Kirchplatz 4 in 31224 Peine (Parken im Parkhaus Werderstraße nur wenige Gehminuten entfernt); Anmeldung im BtV bis 22.06.2026
URL:https://www.peiner-btv.de/event/fallbesprechung-fuer-ehrenamtliche-betreuerinnen-5/
END:VEVENT
BEGIN:VEVENT
DTSTART;VALUE=DATE:20260701
DTEND;VALUE=DATE:20260702
DTSTAMP:20260424T130343
CREATED:20260118T190414Z
LAST-MODIFIED:20260118T190414Z
UID:3081-1782864000-1782950399@www.peiner-btv.de
SUMMARY:In der zweiten Jahreshälfte erfolgt eine Veranstaltung zum Thema „Schuldenregulierung“. Weitere Infos folgen.
DESCRIPTION:
URL:https://www.peiner-btv.de/event/in-der-zweiten-jahreshaelfte-erfolgt-eine-veranstaltung-zum-thema-schuldenregulierung-weitere-infos-folgen/
END:VEVENT
BEGIN:VEVENT
DTSTART;VALUE=DATE:20260916
DTEND;VALUE=DATE:20260917
DTSTAMP:20260424T130343
CREATED:20260118T185605Z
LAST-MODIFIED:20260118T185605Z
UID:3071-1789516800-1789603199@www.peiner-btv.de
SUMMARY:Schulung für Ansprechpartner*innen in Pflegeheimen und ambulanten Diensten zum Thema rechtliche Betreuung und Vorsorgevollmacht
DESCRIPTION:Referentinnen Claudia Osburg und Sabine Scholz-Howind/ Peiner BtV\nFIPS Forum\, Werderstraße 36 in 31224 Peine\nAnmeldung im BtV bis 08.09.2026
URL:https://www.peiner-btv.de/event/schulung-fuer-ansprechpartnerinnen-in-pflegeheimen-und-ambulanten-diensten-zum-thema-rechtliche-betreuung-und-vorsorgevollmacht-2/
END:VEVENT
BEGIN:VEVENT
DTSTART;TZID=Europe/Berlin:20260916T170000
DTEND;TZID=Europe/Berlin:20260916T180000
DTSTAMP:20260424T130343
CREATED:20260118T185946Z
LAST-MODIFIED:20260118T190019Z
UID:3075-1789578000-1789581600@www.peiner-btv.de
SUMMARY:Fallbesprechung für ehrenamtliche Betreuer*innen
DESCRIPTION:Gast: Kerstin Hüser/ EUTB Beraterin zum Thema Anträge und Möglichkeiten bei Schwerbehinderung\nModeration André Gras/ Peiner BtV\nFIPS Forum\, Werderstraße 36 in 31224 Peine\nAnmeldung im BtV bis 14.09.2026
URL:https://www.peiner-btv.de/event/fallbesprechung-fuer-ehrenamtliche-betreuerinnen-6/
END:VEVENT
BEGIN:VEVENT
DTSTART;TZID=Europe/Berlin:20260923T180000
DTEND;TZID=Europe/Berlin:20260923T190000
DTSTAMP:20260424T130343
CREATED:20260118T190143Z
LAST-MODIFIED:20260118T190143Z
UID:3077-1790186400-1790190000@www.peiner-btv.de
SUMMARY:Einführung in das Betreuungsrecht
DESCRIPTION:Referent*innen André Gras und Sabine Scholz-Howind/ Peiner BtV\nkvhs Peine\, Stederdorfer Straße 8/9 in 31224 Peine; Raum 15\nAnmeldung im BtV bis 21.09.2026
URL:https://www.peiner-btv.de/event/einfuehrung-in-das-betreuungsrecht-8/
END:VEVENT
BEGIN:VEVENT
DTSTART;TZID=Europe/Berlin:20261028T170000
DTEND;TZID=Europe/Berlin:20261028T180000
DTSTAMP:20260424T130343
CREATED:20260118T185724Z
LAST-MODIFIED:20260212T082639Z
UID:3073-1793206800-1793210400@www.peiner-btv.de
SUMMARY:Schuldenregulierung
DESCRIPTION:Referentinnen Maren Langenhan\, Susanne Kniep\, Cindy Heinicke/ AWO Kreisverband Peine e.V.\nAngebote des AWO Kreisverbands Peine e.V. und Schuldenregulierung: Chancen-Wege-Neustart\nModeration Nadine Opdenplatz und Sabine Scholz-Howind/ Peiner BtV\nFIPS Forum\, Werderstraße 36 in 31224 Peine\nAnmeldung im BtV bis 26.10.2026
URL:https://www.peiner-btv.de/event/schulung-fuer-ansprechpartnerinnen-in-pflegeheimen-und-ambulanten-diensten-zum-thema-rechtliche-betreuung-und-vorsorgevollmacht-3/
END:VEVENT
BEGIN:VEVENT
DTSTART;TZID=Europe/Berlin:20261209T170000
DTEND;TZID=Europe/Berlin:20261209T180000
DTSTAMP:20260424T130343
CREATED:20260118T190300Z
LAST-MODIFIED:20260118T190300Z
UID:3079-1796835600-1796839200@www.peiner-btv.de
SUMMARY:Fallbesprechung für ehrenamtliche Betreuer*innen
DESCRIPTION:Gast: Sascha Betzler/ Einrichtungsleitung mediterra Woltorf zum Thema Heimaufnahme\, Kurzzeit- und Verhinderungspflege Moderation André Gras und Sabine Scholz-Howind/ Peiner BtV\nRaum der Lebenshilfe Peine-Burgdorf St.-Jakobi-Kirchplatz 4 in 31224 Peine (Parken im Parkhaus Werderstraße nur wenige Gehminuten entfernt); Anmeldung im BtV bis 07.12.2026
URL:https://www.peiner-btv.de/event/fallbesprechung-fuer-ehrenamtliche-betreuerinnen-7/
END:VEVENT
END:VCALENDAR